BEGIN:VCALENDAR
VERSION:2.0
PRODID:-//ACG//Events//EN
CALSCALE:GREGORIAN
METHOD:PUBLISH
BEGIN:VTIMEZONE
TZID:America/Chicago
BEGIN:STANDARD
DTSTART:19701025T070000
TZOFFSETTO:-0600
TZOFFSETFROM:-0500
RRULE:FREQ=YEARLY;BYMONTH=11;BYDAY=1SU
END:STANDARD
BEGIN:DAYLIGHT
DTSTART:19700426T080000
TZOFFSETTO:-0500
TZOFFSETFROM:-0600
RRULE:FREQ=YEARLY;BYMONTH=3;BYDAY=2SU
END:DAYLIGHT
END:VTIMEZONE
BEGIN:VEVENT
UID:2026-ACG-DFW-DCEO-M-A-AWARDS
DTSTART;TZID=America/Chicago:20260505T173045
DTEND;TZID=America/Chicago:20260505T200059
STATUS:CONFIRMED
SUMMARY:2026 ACG DFW & DCEO M&A Awards
DESCRIPTION:
LOCATION:On the Levee\n1108 Quaker Street\nDallas\\, TX 75207
URL:https://www.acg.org/dfw/events/2026-acg-dfw-dceo-ma-awards
DTSTAMP:20260422T065358Z
END:VEVENT
END:VCALENDAR
