BEGIN:VCALENDAR
VERSION:2.0
PRODID:-//ACG//Events//EN
CALSCALE:GREGORIAN
METHOD:PUBLISH
BEGIN:VTIMEZONE
TZID:America/New_York
BEGIN:STANDARD
DTSTART:19701025T060000
TZOFFSETTO:-0500
TZOFFSETFROM:-0400
RRULE:FREQ=YEARLY;BYMONTH=11;BYDAY=1SU
END:STANDARD
BEGIN:DAYLIGHT
DTSTART:19700426T070000
TZOFFSETTO:-0400
TZOFFSETFROM:-0500
RRULE:FREQ=YEARLY;BYMONTH=3;BYDAY=2SU
END:DAYLIGHT
END:VTIMEZONE
BEGIN:VEVENT
UID:ACG-DETROIT-FROM-SHUTDOWN-TO-STRATEGIC-SALE-THE-EMAGINE-PLAYBOOK
DTSTART;TZID=America/New_York:20260623T163042
DTEND;TZID=America/New_York:20260623T190013
STATUS:CONFIRMED
SUMMARY:ACG Detroit | From Shutdown to Strategic Sale: The Emagine Playbook
DESCRIPTION:
LOCATION:Emagine Royal Oak\n200 North Main Street\nRoyal Oak\\, MI 48067
URL:https://www.acg.org/detroit/events/acg-detroit-shutdown-strategic-
 sale-emagine-playbook
DTSTAMP:20260424T090700Z
END:VEVENT
END:VCALENDAR
