BEGIN:VCALENDAR
VERSION:2.0
PRODID:-//ACG//Events//EN
CALSCALE:GREGORIAN
METHOD:PUBLISH
BEGIN:VTIMEZONE
TZID:America/Chicago
BEGIN:STANDARD
DTSTART:19701025T070000
TZOFFSETTO:-0600
TZOFFSETFROM:-0500
RRULE:FREQ=YEARLY;BYMONTH=11;BYDAY=1SU
END:STANDARD
BEGIN:DAYLIGHT
DTSTART:19700426T080000
TZOFFSETTO:-0500
TZOFFSETFROM:-0600
RRULE:FREQ=YEARLY;BYMONTH=3;BYDAY=2SU
END:DAYLIGHT
END:VTIMEZONE
BEGIN:VEVENT
UID:2026-ACG-WI-40TH-ANNIVERSARY-CELEBRATION
DTSTART;TZID=America/Chicago:20260812T170058
DTEND;TZID=America/Chicago:20260812T193019
STATUS:CONFIRMED
SUMMARY:2026 ACG WI | 40th Anniversary Celebration
DESCRIPTION:
LOCATION:The Commodore\n1807 Nagawicka Road\nHartland\\, WI 53029
URL:https://www.acg.org/wisconsin/events/2026-acg-wi-40th-anniversary-
 celebration
DTSTAMP:20260421T200853Z
END:VEVENT
END:VCALENDAR
