BEGIN:VCALENDAR
VERSION:2.0
PRODID:-//ACG//Events//EN
CALSCALE:GREGORIAN
METHOD:PUBLISH
BEGIN:VTIMEZONE
TZID:America/New_York
BEGIN:STANDARD
DTSTART:19701025T060000
TZOFFSETTO:-0500
TZOFFSETFROM:-0400
RRULE:FREQ=YEARLY;BYMONTH=11;BYDAY=1SU
END:STANDARD
BEGIN:DAYLIGHT
DTSTART:19700426T070000
TZOFFSETTO:-0400
TZOFFSETFROM:-0500
RRULE:FREQ=YEARLY;BYMONTH=3;BYDAY=2SU
END:DAYLIGHT
END:VTIMEZONE
BEGIN:VEVENT
UID:2027-ACG-RALEIGH-DURHAM-CAPITAL-CONFERENCE
DTSTART;TZID=America/New_York:20270420T110000
DTEND;TZID=America/New_York:20270421T160000
STATUS:CONFIRMED
SUMMARY:2027 ACG Raleigh Durham Capital Conference
DESCRIPTION:
LOCATION:Westin Raleigh-Durham Airport\n3931 Macaw Street\nRaleigh\\, 
 NC 27617
URL:https://www.acg.org/raleighdurham/events/2027-acg-raleigh-durham-c
 apital-conference
DTSTAMP:20260422T085722Z
END:VEVENT
END:VCALENDAR
