BEGIN:VCALENDAR
VERSION:2.0
PRODID:-//ACG//Events//EN
CALSCALE:GREGORIAN
METHOD:PUBLISH
BEGIN:VTIMEZONE
TZID:Europe/Madrid
BEGIN:STANDARD
DTSTART:19700101T060000
TZOFFSETTO:+0100
TZOFFSETFROM:+0100
END:STANDARD
END:VTIMEZONE
BEGIN:VEVENT
UID:152238
DTSTART;TZID=Europe/Madrid:20260506T140000
DTEND;TZID=Europe/Madrid:20260506T160000
STATUS:CONFIRMED
SUMMARY:Almuerzo con Carlos Muñoz
DESCRIPTION:
LOCATION:Via Veneto\nVia Veneto\nGanduxer\, 10\nBarcelona\\, Barcelona
  08021
URL:https://www.acg.org/spain/events/almuerzo-con-carlos-munoz
DTSTAMP:20260422T065306Z
END:VEVENT
END:VCALENDAR
