BEGIN:VCALENDAR
VERSION:2.0
PRODID:-//ACG//Events//EN
CALSCALE:GREGORIAN
METHOD:PUBLISH
BEGIN:VTIMEZONE
TZID:America/New_York
BEGIN:STANDARD
DTSTART:19701025T060000
TZOFFSETTO:-0500
TZOFFSETFROM:-0400
RRULE:FREQ=YEARLY;BYMONTH=11;BYDAY=1SU
END:STANDARD
BEGIN:DAYLIGHT
DTSTART:19700426T070000
TZOFFSETTO:-0400
TZOFFSETFROM:-0500
RRULE:FREQ=YEARLY;BYMONTH=3;BYDAY=2SU
END:DAYLIGHT
END:VTIMEZONE
BEGIN:VEVENT
UID:ACG-TAMPA-BAY-THE-DEAL-TABLE-CEO-STORIES-OVER-BREAKFAST-3
DTSTART;TZID=America/New_York:20260806T073006
DTEND;TZID=America/New_York:20260806T090052
STATUS:CONFIRMED
SUMMARY:ACG Tampa Bay - The Deal Table: CEO Stories Over Breakfast #3
DESCRIPTION:
LOCATION:Holland & Knight\n100 North Tampa Street\nTampa\\, FL 33602
URL:https://www.acg.org/tampabay/events/acg-tampa-bay-deal-table-ceo-s
 tories-over-breakfast-3
DTSTAMP:20260420T230755Z
END:VEVENT
END:VCALENDAR
