BEGIN:VCALENDAR
VERSION:2.0
PRODID:-//ACG//Events//EN
CALSCALE:GREGORIAN
METHOD:PUBLISH
BEGIN:VTIMEZONE
TZID:America/Los_Angeles
BEGIN:STANDARD
DTSTART:19701025T090000
TZOFFSETTO:-0800
TZOFFSETFROM:-0700
RRULE:FREQ=YEARLY;BYMONTH=11;BYDAY=1SU
END:STANDARD
BEGIN:DAYLIGHT
DTSTART:19700426T100000
TZOFFSETTO:-0700
TZOFFSETFROM:-0800
RRULE:FREQ=YEARLY;BYMONTH=3;BYDAY=2SU
END:DAYLIGHT
END:VTIMEZONE
BEGIN:VEVENT
UID:ACG-OC-ACADEMY-USING-AI-05-20-2026
DTSTART;TZID=America/Los_Angeles:20260520T163028
DTEND;TZID=America/Los_Angeles:20260520T180038
STATUS:CONFIRMED
SUMMARY:ACG OC Academy: Using AI | 05.20.2026
DESCRIPTION:
LOCATION:FBFK Law\n5 Park Plaza\nIrvine\\, CA 92614
URL:https://www.acg.org/occ/events/acg-oc-academy-using-ai-05202026
DTSTAMP:20260422T102707Z
END:VEVENT
END:VCALENDAR
