BEGIN:VCALENDAR
VERSION:2.0
PRODID:-//ACG//Events//EN
CALSCALE:GREGORIAN
METHOD:PUBLISH
BEGIN:VTIMEZONE
TZID:America/New_York
BEGIN:STANDARD
DTSTART:19701025T060000
TZOFFSETTO:-0500
TZOFFSETFROM:-0400
RRULE:FREQ=YEARLY;BYMONTH=11;BYDAY=1SU
END:STANDARD
BEGIN:DAYLIGHT
DTSTART:19700426T070000
TZOFFSETTO:-0400
TZOFFSETFROM:-0500
RRULE:FREQ=YEARLY;BYMONTH=3;BYDAY=2SU
END:DAYLIGHT
END:VTIMEZONE
BEGIN:VEVENT
UID:ACG-PITTSBURGH-2026-OCTOBER-LUNCHEON
DTSTART;TZID=America/New_York:20261008T114509
DTEND;TZID=America/New_York:20261008T140025
STATUS:CONFIRMED
SUMMARY:ACG Pittsburgh 2026 October Luncheon
DESCRIPTION:
LOCATION:Duquesne Club\n325 Sixth Avenue\nPittsburgh\\, PA 15222
URL:https://www.acg.org/pittsburgh/events/acg-pittsburgh-2026-october-
 luncheon
DTSTAMP:20260422T084455Z
END:VEVENT
END:VCALENDAR
