BEGIN:VCALENDAR
VERSION:2.0
PRODID:-//ACG//Events//EN
CALSCALE:GREGORIAN
METHOD:PUBLISH
BEGIN:VTIMEZONE
TZID:America/Los_Angeles
BEGIN:STANDARD
DTSTART:19701025T090000
TZOFFSETTO:-0800
TZOFFSETFROM:-0700
RRULE:FREQ=YEARLY;BYMONTH=11;BYDAY=1SU
END:STANDARD
BEGIN:DAYLIGHT
DTSTART:19700426T100000
TZOFFSETTO:-0700
TZOFFSETFROM:-0800
RRULE:FREQ=YEARLY;BYMONTH=3;BYDAY=2SU
END:DAYLIGHT
END:VTIMEZONE
BEGIN:VEVENT
UID:ACGIE-ACG-IE-AI-AND-ETHICS-AI-WITHOUT-THE-LAWSUIT-WHAT-MIDDLE-MARK
 ET-LEADERS-NEED-TO-KNOW-NOW-05-14-26
DTSTART;TZID=America/Los_Angeles:20260514T160049
DTEND;TZID=America/Los_Angeles:20260514T180049
STATUS:CONFIRMED
SUMMARY:ACGIE | ACG IE AI and Ethics - AI Without the Lawsuit: What Mi
 ddle Market Leaders Need to Know Now | 05.14.26
DESCRIPTION:
LOCATION:Pierre Biane Winery\n10013 8th Street\nRancho Cucamonga\\, CA
  91730
URL:https://www.acg.org/inlandempire/events/acgie-acg-ie-ai-and-ethics
 -ai-without-lawsuit-what-middle-market-leaders-need
DTSTAMP:20260422T045712Z
END:VEVENT
END:VCALENDAR
