BEGIN:VCALENDAR
VERSION:2.0
PRODID:-//ACG//Events//EN
CALSCALE:GREGORIAN
METHOD:PUBLISH
BEGIN:VTIMEZONE
TZID:America/Chicago
BEGIN:STANDARD
DTSTART:19701025T070000
TZOFFSETTO:-0600
TZOFFSETFROM:-0500
RRULE:FREQ=YEARLY;BYMONTH=11;BYDAY=1SU
END:STANDARD
BEGIN:DAYLIGHT
DTSTART:19700426T080000
TZOFFSETTO:-0500
TZOFFSETFROM:-0600
RRULE:FREQ=YEARLY;BYMONTH=3;BYDAY=2SU
END:DAYLIGHT
END:VTIMEZONE
BEGIN:VEVENT
UID:2026-ACG-WI-NEXTGEN-BREWING-CONNECTIONS-MAY
DTSTART;TZID=America/Chicago:20260526T080021
DTEND;TZID=America/Chicago:20260526T090036
STATUS:CONFIRMED
SUMMARY:2026 ACG WI NextGen | Brewing Connections - May
DESCRIPTION:
LOCATION:Vendetta Coffee Bar in Walkers Point\n524 South 2nd Street\nM
 ilwaukee\\, WI 53204
URL:https://www.acg.org/wisconsin/events/2026-acg-wi-nextgen-brewing-c
 onnections-may
DTSTAMP:20260424T212231Z
END:VEVENT
END:VCALENDAR
