BEGIN:VCALENDAR
VERSION:2.0
PRODID:-//ACG//Events//EN
CALSCALE:GREGORIAN
METHOD:PUBLISH
BEGIN:VTIMEZONE
TZID:America/New_York
BEGIN:STANDARD
DTSTART:19701025T060000
TZOFFSETTO:-0500
TZOFFSETFROM:-0400
RRULE:FREQ=YEARLY;BYMONTH=11;BYDAY=1SU
END:STANDARD
BEGIN:DAYLIGHT
DTSTART:19700426T070000
TZOFFSETTO:-0400
TZOFFSETFROM:-0500
RRULE:FREQ=YEARLY;BYMONTH=3;BYDAY=2SU
END:DAYLIGHT
END:VTIMEZONE
BEGIN:VEVENT
UID:152410
DTSTART;TZID=America/New_York:20260922T140000
DTEND;TZID=America/New_York:20260922T150000
STATUS:CONFIRMED
SUMMARY:Webinar: 2026 M&A Mid-Year Recap & Outlook
DESCRIPTION:
URL:https://www.acg.org/events/webinar-2026-ma-mid-year-recap-outlook
DTSTAMP:20260423T015935Z
END:VEVENT
END:VCALENDAR
