BEGIN:VCALENDAR
VERSION:2.0
PRODID:-//ACG//Events//EN
CALSCALE:GREGORIAN
METHOD:PUBLISH
BEGIN:VTIMEZONE
TZID:America/Chicago
BEGIN:STANDARD
DTSTART:19701025T070000
TZOFFSETTO:-0600
TZOFFSETFROM:-0500
RRULE:FREQ=YEARLY;BYMONTH=11;BYDAY=1SU
END:STANDARD
BEGIN:DAYLIGHT
DTSTART:19700426T080000
TZOFFSETTO:-0500
TZOFFSETFROM:-0600
RRULE:FREQ=YEARLY;BYMONTH=3;BYDAY=2SU
END:DAYLIGHT
END:VTIMEZONE
BEGIN:VEVENT
UID:2026-JUNE-25TH-ACG-ASA-AUSTIN-ALL-POD-HAPPY-HOUR
DTSTART;TZID=America/Chicago:20260625T170029
DTEND;TZID=America/Chicago:20260625T190041
STATUS:CONFIRMED
SUMMARY:2026 June 25th ACG ASA Austin All-POD Happy Hour
DESCRIPTION:
LOCATION:The Cedar Tavern @ Eberly\n615 South Lamar Boulevard\nAustin\
 \, TX 78704
URL:https://www.acg.org/asa/events/2026-june-25th-acg-asa-austin-all-p
 od-happy-hour
DTSTAMP:20260424T101909Z
END:VEVENT
END:VCALENDAR
