BEGIN:VCALENDAR
VERSION:2.0
PRODID:-//ACG//Events//EN
CALSCALE:GREGORIAN
METHOD:PUBLISH
BEGIN:VTIMEZONE
TZID:America/New_York
BEGIN:STANDARD
DTSTART:19701025T060000
TZOFFSETTO:-0500
TZOFFSETFROM:-0400
RRULE:FREQ=YEARLY;BYMONTH=11;BYDAY=1SU
END:STANDARD
BEGIN:DAYLIGHT
DTSTART:19700426T070000
TZOFFSETTO:-0400
TZOFFSETFROM:-0500
RRULE:FREQ=YEARLY;BYMONTH=3;BYDAY=2SU
END:DAYLIGHT
END:VTIMEZONE
BEGIN:VEVENT
UID:402c3ce4-4807-4c57-8bd0-f462f867a928
DTSTART;TZID=America/New_York:20170817T183000
DTEND;TZID=America/New_York:20170817T213000
STATUS:CONFIRMED
SUMMARY:Chapter of the Year Celebration
DESCRIPTION:
LOCATION:Madison Building\n1555 Broadway Street\nDetroit\\, MI 48226
URL:https://www.acg.org/detroit/events/chapter-year-celebration-0
DTSTAMP:20260423T163904Z
END:VEVENT
END:VCALENDAR
