BEGIN:VCALENDAR
VERSION:2.0
PRODID:-//ACG//Events//EN
CALSCALE:GREGORIAN
METHOD:PUBLISH
BEGIN:VTIMEZONE
TZID:America/New_York
BEGIN:STANDARD
DTSTART:19701025T060000
TZOFFSETTO:-0500
TZOFFSETFROM:-0400
RRULE:FREQ=YEARLY;BYMONTH=11;BYDAY=1SU
END:STANDARD
BEGIN:DAYLIGHT
DTSTART:19700426T070000
TZOFFSETTO:-0400
TZOFFSETFROM:-0500
RRULE:FREQ=YEARLY;BYMONTH=3;BYDAY=2SU
END:DAYLIGHT
END:VTIMEZONE
BEGIN:VEVENT
UID:ecce37ba-8ea8-4c78-976c-fba11d0c5221
DTSTART;TZID=America/New_York:20170918T190000
DTEND;TZID=America/New_York:20170919T190000
STATUS:CONFIRMED
SUMMARY:ACG New England Fall Conference 2017
DESCRIPTION:
LOCATION:Newport Marriott\n
URL:https://www.acg.org/boston/events/acg-new-england-fall-conference-2017
DTSTAMP:20260425T173349Z
END:VEVENT
END:VCALENDAR
