BEGIN:VCALENDAR
VERSION:2.0
PRODID:-//ACG//Events//EN
CALSCALE:GREGORIAN
METHOD:PUBLISH
BEGIN:VTIMEZONE
TZID:America/New_York
BEGIN:STANDARD
DTSTART:19701025T060000
TZOFFSETTO:-0500
TZOFFSETFROM:-0400
RRULE:FREQ=YEARLY;BYMONTH=11;BYDAY=1SU
END:STANDARD
BEGIN:DAYLIGHT
DTSTART:19700426T070000
TZOFFSETTO:-0400
TZOFFSETFROM:-0500
RRULE:FREQ=YEARLY;BYMONTH=3;BYDAY=2SU
END:DAYLIGHT
END:VTIMEZONE
BEGIN:VEVENT
UID:365bcf82-7abf-4427-b1c0-fdc74bf4ab1e
DTSTART;TZID=America/New_York:20171003T183000
DTEND;TZID=America/New_York:20171003T210000
STATUS:CONFIRMED
SUMMARY:Sarasota - Annual State of the Capital Markets
DESCRIPTION:
LOCATION:Sarasota Yacht Club\n
URL:https://www.acg.org/tampabay/events/sarasota-annual-state-capital-
 markets
DTSTAMP:20260419T130436Z
END:VEVENT
END:VCALENDAR
