BEGIN:VCALENDAR
VERSION:2.0
PRODID:-//ACG//Events//EN
CALSCALE:GREGORIAN
METHOD:PUBLISH
BEGIN:VTIMEZONE
TZID:America/New_York
BEGIN:STANDARD
DTSTART:19701025T060000
TZOFFSETTO:-0500
TZOFFSETFROM:-0400
RRULE:FREQ=YEARLY;BYMONTH=11;BYDAY=1SU
END:STANDARD
BEGIN:DAYLIGHT
DTSTART:19700426T070000
TZOFFSETTO:-0400
TZOFFSETFROM:-0500
RRULE:FREQ=YEARLY;BYMONTH=3;BYDAY=2SU
END:DAYLIGHT
END:VTIMEZONE
BEGIN:VEVENT
UID:2d9c8641-8441-438f-b9b0-ac0bb5fdd08e
DTSTART;TZID=America/New_York:20180323T080000
DTEND;TZID=America/New_York:20180323T100000
STATUS:CONFIRMED
SUMMARY:ACG NY and Toronto Joint Event 032318
DESCRIPTION:
LOCATION:Bernstein Private Wealth Management\n1345 6th Avenue\nNew Yor
 k\\, NY 10105
URL:https://www.acg.org/nyc/events/acg-ny-and-toronto-joint-event-032318
DTSTAMP:20260419T225445Z
END:VEVENT
END:VCALENDAR
