BEGIN:VCALENDAR
VERSION:2.0
PRODID:-//ACG//Events//EN
CALSCALE:GREGORIAN
METHOD:PUBLISH
BEGIN:VTIMEZONE
TZID:America/New_York
BEGIN:STANDARD
DTSTART:19701025T060000
TZOFFSETTO:-0500
TZOFFSETFROM:-0400
RRULE:FREQ=YEARLY;BYMONTH=11;BYDAY=1SU
END:STANDARD
BEGIN:DAYLIGHT
DTSTART:19700426T070000
TZOFFSETTO:-0400
TZOFFSETFROM:-0500
RRULE:FREQ=YEARLY;BYMONTH=3;BYDAY=2SU
END:DAYLIGHT
END:VTIMEZONE
BEGIN:VEVENT
UID:686a8da9-1014-45e2-95f2-d91c91c28e5a
DTSTART;TZID=America/New_York:20180117T123000
DTEND;TZID=America/New_York:20180117T140000
STATUS:CONFIRMED
SUMMARY:ACG CIN Jan 2018 Lunch: Beyond Multiples: How the Market Assig
 ns Value to Your Business
DESCRIPTION:
LOCATION:Hyatt Regency Cincinnati\n
URL:https://www.acg.org/cincinnati/events/acg-cin-jan-2018-lunch-beyon
 d-multiples-how-market-assigns-value-your-business
DTSTAMP:20260422T063701Z
END:VEVENT
END:VCALENDAR
