BEGIN:VCALENDAR
VERSION:2.0
PRODID:-//ACG//Events//EN
CALSCALE:GREGORIAN
METHOD:PUBLISH
BEGIN:VTIMEZONE
TZID:America/New_York
BEGIN:STANDARD
DTSTART:19701025T060000
TZOFFSETTO:-0500
TZOFFSETFROM:-0400
RRULE:FREQ=YEARLY;BYMONTH=11;BYDAY=1SU
END:STANDARD
BEGIN:DAYLIGHT
DTSTART:19700426T070000
TZOFFSETTO:-0400
TZOFFSETFROM:-0500
RRULE:FREQ=YEARLY;BYMONTH=3;BYDAY=2SU
END:DAYLIGHT
END:VTIMEZONE
BEGIN:VEVENT
UID:041cdc64-751f-4224-96ed-f96933fd21f9
DTSTART;TZID=America/New_York:20171101T173000
DTEND;TZID=America/New_York:20171101T190000
STATUS:CONFIRMED
SUMMARY:ACG CIN Women: Afternoon at EBTH with Jacquie Denny\, Co-Founder
DESCRIPTION:
LOCATION:Everything But the House Distribution Center\n6000 Creek Road
 \nBlue Ash\\, OH 45242
URL:https://www.acg.org/cincinnati/events/acg-cin-women-afternoon-ebth
 -jacquie-denny-co-founder
DTSTAMP:20260425T212314Z
END:VEVENT
END:VCALENDAR
