BEGIN:VCALENDAR
VERSION:2.0
PRODID:-//ACG//Events//EN
CALSCALE:GREGORIAN
METHOD:PUBLISH
BEGIN:VTIMEZONE
TZID:America/New_York
BEGIN:STANDARD
DTSTART:19701025T060000
TZOFFSETTO:-0500
TZOFFSETFROM:-0400
RRULE:FREQ=YEARLY;BYMONTH=11;BYDAY=1SU
END:STANDARD
BEGIN:DAYLIGHT
DTSTART:19700426T070000
TZOFFSETTO:-0400
TZOFFSETFROM:-0500
RRULE:FREQ=YEARLY;BYMONTH=3;BYDAY=2SU
END:DAYLIGHT
END:VTIMEZONE
BEGIN:VEVENT
UID:12a336a9-def0-446e-8e73-3babe42d487e
DTSTART;TZID=America/New_York:20180228T113000
DTEND;TZID=America/New_York:20180308T130000
STATUS:CONFIRMED
SUMMARY:RESCHEDULED:  ACG & EACC Women: Mary Miller\, CEO of Jancoa\, 
 on Reaching Your Dreams
DESCRIPTION:
LOCATION:Vorys Conference Center\n221 East 4th Street\nCincinnati\\, O
 H 45202
URL:https://www.acg.org/cincinnati/events/rescheduled-acg-eacc-women-m
 ary-miller-ceo-jancoa-reaching-your-dreams
DTSTAMP:20260425T144433Z
END:VEVENT
END:VCALENDAR
