BEGIN:VCALENDAR
VERSION:2.0
PRODID:-//ACG//Events//EN
CALSCALE:GREGORIAN
METHOD:PUBLISH
BEGIN:VTIMEZONE
TZID:America/New_York
BEGIN:STANDARD
DTSTART:19701025T060000
TZOFFSETTO:-0500
TZOFFSETFROM:-0400
RRULE:FREQ=YEARLY;BYMONTH=11;BYDAY=1SU
END:STANDARD
BEGIN:DAYLIGHT
DTSTART:19700426T070000
TZOFFSETTO:-0400
TZOFFSETFROM:-0500
RRULE:FREQ=YEARLY;BYMONTH=3;BYDAY=2SU
END:DAYLIGHT
END:VTIMEZONE
BEGIN:VEVENT
UID:051f603f-8703-4f1d-8c41-c4843ee60f36
DTSTART;TZID=America/New_York:20180207T080000
DTEND;TZID=America/New_York:20180208T170000
STATUS:CONFIRMED
SUMMARY:Atlanta ACG Capital Connection 2018
DESCRIPTION:
LOCATION:Renaissance Atlanta Waverly Hotel & Convention Center\n2450 G
 alleria Parkway\nAtlanta\\, GA 30339
URL:https://www.acg.org/atlanta/events/atlanta-acg-capital-connection-2018
DTSTAMP:20260425T170625Z
END:VEVENT
END:VCALENDAR
