BEGIN:VCALENDAR
VERSION:2.0
PRODID:-//ACG//Events//EN
CALSCALE:GREGORIAN
METHOD:PUBLISH
BEGIN:VTIMEZONE
TZID:America/Chicago
BEGIN:STANDARD
DTSTART:19701025T070000
TZOFFSETTO:-0600
TZOFFSETFROM:-0500
RRULE:FREQ=YEARLY;BYMONTH=11;BYDAY=1SU
END:STANDARD
BEGIN:DAYLIGHT
DTSTART:19700426T080000
TZOFFSETTO:-0500
TZOFFSETFROM:-0600
RRULE:FREQ=YEARLY;BYMONTH=3;BYDAY=2SU
END:DAYLIGHT
END:VTIMEZONE
BEGIN:VEVENT
UID:27934
DTSTART;TZID=America/Chicago:20171012T133000
DTEND;TZID=America/Chicago:20171012T163000
STATUS:CONFIRMED
SUMMARY:Succession Planning - Strategies Every Business Needs
DESCRIPTION:
LOCATION:Sheraton Imperial Hotel\n4700 Emperor Blvd.\nDurham\\, NC 27703
URL:https://www.acg.org/raleighdurham/events/succession-planning-strat
 egies-every-business-needs
DTSTAMP:20260420T150741Z
END:VEVENT
END:VCALENDAR
