BEGIN:VCALENDAR
VERSION:2.0
PRODID:-//ACG//Events//EN
CALSCALE:GREGORIAN
METHOD:PUBLISH
BEGIN:VTIMEZONE
TZID:America/New_York
BEGIN:STANDARD
DTSTART:19701025T060000
TZOFFSETTO:-0500
TZOFFSETFROM:-0400
RRULE:FREQ=YEARLY;BYMONTH=11;BYDAY=1SU
END:STANDARD
BEGIN:DAYLIGHT
DTSTART:19700426T070000
TZOFFSETTO:-0400
TZOFFSETFROM:-0500
RRULE:FREQ=YEARLY;BYMONTH=3;BYDAY=2SU
END:DAYLIGHT
END:VTIMEZONE
BEGIN:VEVENT
UID:eee46825-27e8-4fa1-b862-f6e0596075bb
DTSTART;TZID=America/New_York:20180128T080000
DTEND;TZID=America/New_York:20180130T000000
STATUS:CONFIRMED
SUMMARY:ACG Northeast Dealmaking at the Mountain 2018
DESCRIPTION:
LOCATION:The Hermitage Club\n183 Gatehouse Trail\nWilmington\\, VT 05363
URL:https://www.acg.org/boston/events/acg-northeast-dealmaking-mountai
 n-2018
DTSTAMP:20260419T164934Z
END:VEVENT
END:VCALENDAR
