BEGIN:VCALENDAR
VERSION:2.0
PRODID:-//ACG//Events//EN
CALSCALE:GREGORIAN
METHOD:PUBLISH
BEGIN:VTIMEZONE
TZID:America/New_York
BEGIN:STANDARD
DTSTART:19701025T060000
TZOFFSETTO:-0500
TZOFFSETFROM:-0400
RRULE:FREQ=YEARLY;BYMONTH=11;BYDAY=1SU
END:STANDARD
BEGIN:DAYLIGHT
DTSTART:19700426T070000
TZOFFSETTO:-0400
TZOFFSETFROM:-0500
RRULE:FREQ=YEARLY;BYMONTH=3;BYDAY=2SU
END:DAYLIGHT
END:VTIMEZONE
BEGIN:VEVENT
UID:cd663034-bc96-4983-b536-b6e4cc29ae3a
DTSTART;TZID=America/New_York:20180119T071500
DTEND;TZID=America/New_York:20180119T090000
STATUS:CONFIRMED
SUMMARY:January 2018 Breakfast Briefing: Getting from LOI to Close: Pa
 thway to a Successful Transaction
DESCRIPTION:
LOCATION:Union League of Philadelphia\n140 South Broad Street\nPhilade
 lphia\\, PA 19102
URL:https://www.acg.org/philadelphia/events/january-2018-breakfast-bri
 efing-getting-loi-close-pathway-successful
DTSTAMP:20260419T144742Z
END:VEVENT
END:VCALENDAR
