BEGIN:VCALENDAR
VERSION:2.0
PRODID:-//ACG//Events//EN
CALSCALE:GREGORIAN
METHOD:PUBLISH
BEGIN:VTIMEZONE
TZID:America/Chicago
BEGIN:STANDARD
DTSTART:19701025T070000
TZOFFSETTO:-0600
TZOFFSETFROM:-0500
RRULE:FREQ=YEARLY;BYMONTH=11;BYDAY=1SU
END:STANDARD
BEGIN:DAYLIGHT
DTSTART:19700426T080000
TZOFFSETTO:-0500
TZOFFSETFROM:-0600
RRULE:FREQ=YEARLY;BYMONTH=3;BYDAY=2SU
END:DAYLIGHT
END:VTIMEZONE
BEGIN:VEVENT
UID:f6f8bc99-373b-44cf-8909-729f9252397e
DTSTART;TZID=America/Chicago:20180419T070000
DTEND;TZID=America/Chicago:20180419T090000
STATUS:CONFIRMED
SUMMARY:April 2018 Breakfast Program
DESCRIPTION:
LOCATION:Belo Mansion\n2101 Ross Avenue\nDallas\\, TX 75201
URL:https://www.acg.org/dfw/events/april-2018-breakfast-program
DTSTAMP:20260420T111500Z
END:VEVENT
END:VCALENDAR
