BEGIN:VCALENDAR
VERSION:2.0
PRODID:-//ACG//Events//EN
CALSCALE:GREGORIAN
METHOD:PUBLISH
BEGIN:VTIMEZONE
TZID:America/New_York
BEGIN:STANDARD
DTSTART:19701025T060000
TZOFFSETTO:-0500
TZOFFSETFROM:-0400
RRULE:FREQ=YEARLY;BYMONTH=11;BYDAY=1SU
END:STANDARD
BEGIN:DAYLIGHT
DTSTART:19700426T070000
TZOFFSETTO:-0400
TZOFFSETFROM:-0500
RRULE:FREQ=YEARLY;BYMONTH=3;BYDAY=2SU
END:DAYLIGHT
END:VTIMEZONE
BEGIN:VEVENT
UID:9725af9c-ddce-404d-aed3-b376e22a48b2
DTSTART;TZID=America/New_York:20180411T080000
DTEND;TZID=America/New_York:20180411T103000
STATUS:CONFIRMED
SUMMARY:ACG New York International Event at the Hungarian Consulate
DESCRIPTION:
LOCATION:Consulate General of Hungary\n223 East 52nd Street\nNew York\
 \, NY 10022
URL:https://www.acg.org/nyc/events/acg-new-york-international-event-hu
 ngarian-consulate
DTSTAMP:20260423T182330Z
END:VEVENT
END:VCALENDAR
