BEGIN:VCALENDAR
VERSION:2.0
PRODID:-//ACG//Events//EN
CALSCALE:GREGORIAN
METHOD:PUBLISH
BEGIN:VTIMEZONE
TZID:America/Chicago
BEGIN:STANDARD
DTSTART:19701025T070000
TZOFFSETTO:-0600
TZOFFSETFROM:-0500
RRULE:FREQ=YEARLY;BYMONTH=11;BYDAY=1SU
END:STANDARD
BEGIN:DAYLIGHT
DTSTART:19700426T080000
TZOFFSETTO:-0500
TZOFFSETFROM:-0600
RRULE:FREQ=YEARLY;BYMONTH=3;BYDAY=2SU
END:DAYLIGHT
END:VTIMEZONE
BEGIN:VEVENT
UID:30413
DTSTART;TZID=America/Chicago:20180419T163000
DTEND;TZID=America/Chicago:20180620T163000
STATUS:CONFIRMED
SUMMARY:ACG University: Non Profit Board Training 
DESCRIPTION:
LOCATION:Varnum LLP\n333 Bridge St NW\nGrand Rapids\\, MI 49504
URL:https://www.acg.org/wmich/events/acg-university-non-profit-board-t
 raining
DTSTAMP:20260424T041202Z
END:VEVENT
END:VCALENDAR
