BEGIN:VCALENDAR
VERSION:2.0
PRODID:-//ACG//Events//EN
CALSCALE:GREGORIAN
METHOD:PUBLISH
BEGIN:VTIMEZONE
TZID:America/New_York
BEGIN:STANDARD
DTSTART:19701025T060000
TZOFFSETTO:-0500
TZOFFSETFROM:-0400
RRULE:FREQ=YEARLY;BYMONTH=11;BYDAY=1SU
END:STANDARD
BEGIN:DAYLIGHT
DTSTART:19700426T070000
TZOFFSETTO:-0400
TZOFFSETFROM:-0500
RRULE:FREQ=YEARLY;BYMONTH=3;BYDAY=2SU
END:DAYLIGHT
END:VTIMEZONE
BEGIN:VEVENT
UID:f0b5449e-6ab4-47ac-b040-cb6df9fc05b0
DTSTART;TZID=America/New_York:20180313T071500
DTEND;TZID=America/New_York:20180313T091500
STATUS:CONFIRMED
SUMMARY:Artificial Intelligence Impacting The Futuristic Workplace
DESCRIPTION:
LOCATION:Glen Oaks\n30500 West 13 Mile Road\nFarmington Hills\\, MI 48334
URL:https://www.acg.org/detroit/events/artificial-intelligence-impacti
 ng-futuristic-workplace
DTSTAMP:20260420T111509Z
END:VEVENT
END:VCALENDAR
