BEGIN:VCALENDAR
VERSION:2.0
PRODID:-//ACG//Events//EN
CALSCALE:GREGORIAN
METHOD:PUBLISH
BEGIN:VTIMEZONE
TZID:America/New_York
BEGIN:STANDARD
DTSTART:19701025T060000
TZOFFSETTO:-0500
TZOFFSETFROM:-0400
RRULE:FREQ=YEARLY;BYMONTH=11;BYDAY=1SU
END:STANDARD
BEGIN:DAYLIGHT
DTSTART:19700426T070000
TZOFFSETTO:-0400
TZOFFSETFROM:-0500
RRULE:FREQ=YEARLY;BYMONTH=3;BYDAY=2SU
END:DAYLIGHT
END:VTIMEZONE
BEGIN:VEVENT
UID:c8d50bc0-66e5-4c6f-bd9b-bf46cd84061c
DTSTART;TZID=America/New_York:20180419T073000
DTEND;TZID=America/New_York:20180419T090000
STATUS:CONFIRMED
SUMMARY:NextGen Breakfast and Learn: 10 Ways to Keep Real Estate from 
 Killing the Deal
DESCRIPTION:
LOCATION:Colliers International\n2 Corporate Drive\nSouthfield\\, MI 48076
URL:https://www.acg.org/detroit/events/nextgen-breakfast-and-learn-10-
 ways-keep-real-estate-killing-deal
DTSTAMP:20260425T173840Z
END:VEVENT
END:VCALENDAR
