BEGIN:VCALENDAR
VERSION:2.0
PRODID:-//ACG//Events//EN
CALSCALE:GREGORIAN
METHOD:PUBLISH
BEGIN:VTIMEZONE
TZID:America/New_York
BEGIN:STANDARD
DTSTART:19701025T060000
TZOFFSETTO:-0500
TZOFFSETFROM:-0400
RRULE:FREQ=YEARLY;BYMONTH=11;BYDAY=1SU
END:STANDARD
BEGIN:DAYLIGHT
DTSTART:19700426T070000
TZOFFSETTO:-0400
TZOFFSETFROM:-0500
RRULE:FREQ=YEARLY;BYMONTH=3;BYDAY=2SU
END:DAYLIGHT
END:VTIMEZONE
BEGIN:VEVENT
UID:4149ed8b-4b3c-48fe-a843-2305c2f4d282
DTSTART;TZID=America/New_York:20180917T000000
DTEND;TZID=America/New_York:20180918T000000
STATUS:CONFIRMED
SUMMARY:ACG New England Fall Conference & Clambake 2018
DESCRIPTION:
LOCATION:Newport Marriott & Newport Vineyards\n25 America's Cup Avenue
 \nNewport\\, RI 02840
URL:https://www.acg.org/boston/events/acg-new-england-fall-conference-
 clambake-2018
DTSTAMP:20260422T114456Z
END:VEVENT
END:VCALENDAR
