BEGIN:VCALENDAR
VERSION:2.0
PRODID:-//ACG//Events//EN
CALSCALE:GREGORIAN
METHOD:PUBLISH
BEGIN:VTIMEZONE
TZID:America/New_York
BEGIN:STANDARD
DTSTART:19701025T060000
TZOFFSETTO:-0500
TZOFFSETFROM:-0400
RRULE:FREQ=YEARLY;BYMONTH=11;BYDAY=1SU
END:STANDARD
BEGIN:DAYLIGHT
DTSTART:19700426T070000
TZOFFSETTO:-0400
TZOFFSETFROM:-0500
RRULE:FREQ=YEARLY;BYMONTH=3;BYDAY=2SU
END:DAYLIGHT
END:VTIMEZONE
BEGIN:VEVENT
UID:81a36d48-6ee0-4774-a9d1-1255b695141c
DTSTART;TZID=America/New_York:20180424T111500
DTEND;TZID=America/New_York:20180424T130000
STATUS:CONFIRMED
SUMMARY:Lunch and Learn Driving Business Value Series | Best Practices
  in Lower Market Boards
DESCRIPTION:
LOCATION:Detroit Golf Club\n17911 Hamilton Road\nDetroit\\, MI 48203
URL:https://www.acg.org/detroit/events/lunch-and-learn-driving-busines
 s-value-series-best-practices-lower-market-boards
DTSTAMP:20260422T115720Z
END:VEVENT
END:VCALENDAR
