BEGIN:VCALENDAR
VERSION:2.0
PRODID:-//ACG//Events//EN
CALSCALE:GREGORIAN
METHOD:PUBLISH
BEGIN:VTIMEZONE
TZID:America/New_York
BEGIN:STANDARD
DTSTART:19701025T060000
TZOFFSETTO:-0500
TZOFFSETFROM:-0400
RRULE:FREQ=YEARLY;BYMONTH=11;BYDAY=1SU
END:STANDARD
BEGIN:DAYLIGHT
DTSTART:19700426T070000
TZOFFSETTO:-0400
TZOFFSETFROM:-0500
RRULE:FREQ=YEARLY;BYMONTH=3;BYDAY=2SU
END:DAYLIGHT
END:VTIMEZONE
BEGIN:VEVENT
UID:ecaea599-6319-4fa1-b23c-75025779b5e5
DTSTART;TZID=America/New_York:20180524T163000
DTEND;TZID=America/New_York:20180524T193000
STATUS:CONFIRMED
SUMMARY:A Networking Night in Providence | When is Growth Equity the B
 est Alternative for Your Business?
DESCRIPTION:
LOCATION:The Squantum Association\n947 Veterans Memorial Parkway\nProv
 idence\\, RI 02915
URL:https://www.acg.org/boston/events/networking-night-providence-when
 -growth-equity-best-alternative-your-business
DTSTAMP:20260420T092857Z
END:VEVENT
END:VCALENDAR
