BEGIN:VCALENDAR
VERSION:2.0
PRODID:-//ACG//Events//EN
CALSCALE:GREGORIAN
METHOD:PUBLISH
BEGIN:VTIMEZONE
TZID:America/New_York
BEGIN:STANDARD
DTSTART:19701025T060000
TZOFFSETTO:-0500
TZOFFSETFROM:-0400
RRULE:FREQ=YEARLY;BYMONTH=11;BYDAY=1SU
END:STANDARD
BEGIN:DAYLIGHT
DTSTART:19700426T070000
TZOFFSETTO:-0400
TZOFFSETFROM:-0500
RRULE:FREQ=YEARLY;BYMONTH=3;BYDAY=2SU
END:DAYLIGHT
END:VTIMEZONE
BEGIN:VEVENT
UID:b828b0de-3b94-49d9-a7ae-77132ecfeee4
DTSTART;TZID=America/New_York:20181105T120000
DTEND;TZID=America/New_York:20181105T190000
STATUS:CONFIRMED
SUMMARY:ACG Northeast Industry Tour: Healthcare Conference (ACG Boston)
DESCRIPTION:
LOCATION:The University of Massachusetts Club\n1 Beacon Street\nBoston
 \\, MA 02108
URL:https://www.acg.org/boston/events/acg-northeast-industry-tour-heal
 thcare-conference-acg-boston
DTSTAMP:20260421T172221Z
END:VEVENT
END:VCALENDAR
