BEGIN:VCALENDAR
VERSION:2.0
PRODID:-//ACG//Events//EN
CALSCALE:GREGORIAN
METHOD:PUBLISH
BEGIN:VTIMEZONE
TZID:America/Chicago
BEGIN:STANDARD
DTSTART:19701025T070000
TZOFFSETTO:-0600
TZOFFSETFROM:-0500
RRULE:FREQ=YEARLY;BYMONTH=11;BYDAY=1SU
END:STANDARD
BEGIN:DAYLIGHT
DTSTART:19700426T080000
TZOFFSETTO:-0500
TZOFFSETFROM:-0600
RRULE:FREQ=YEARLY;BYMONTH=3;BYDAY=2SU
END:DAYLIGHT
END:VTIMEZONE
BEGIN:VEVENT
UID:ffcb64be-e037-4829-adfa-3baf7535164f
DTSTART;TZID=America/Chicago:20180614T151500
DTEND;TZID=America/Chicago:20180614T180000
STATUS:CONFIRMED
SUMMARY:ACG WI: Tour of the Milwaukee Bucks Arena
DESCRIPTION:
URL:https://www.acg.org/wisconsin/events/acg-wi-tour-milwaukee-bucks-arena
DTSTAMP:20260420T040037Z
END:VEVENT
END:VCALENDAR
