BEGIN:VCALENDAR
VERSION:2.0
PRODID:-//ACG//Events//EN
CALSCALE:GREGORIAN
METHOD:PUBLISH
BEGIN:VTIMEZONE
TZID:America/New_York
BEGIN:STANDARD
DTSTART:19701025T060000
TZOFFSETTO:-0500
TZOFFSETFROM:-0400
RRULE:FREQ=YEARLY;BYMONTH=11;BYDAY=1SU
END:STANDARD
BEGIN:DAYLIGHT
DTSTART:19700426T070000
TZOFFSETTO:-0400
TZOFFSETFROM:-0500
RRULE:FREQ=YEARLY;BYMONTH=3;BYDAY=2SU
END:DAYLIGHT
END:VTIMEZONE
BEGIN:VEVENT
UID:e6e50dbd-122b-494e-9e83-7f2fb47f9560
DTSTART;TZID=America/New_York:20181023T110000
DTEND;TZID=America/New_York:20181023T184500
STATUS:CONFIRMED
SUMMARY:M&A East 2018: Annual Golf Outing
DESCRIPTION:
LOCATION:Rolling Green Golf Club\n280 North State Road\nSpringfield\\,
  PA 19064
URL:https://www.acg.org/philadelphia/events/ma-east-2018-annual-golf-outing
DTSTAMP:20260425T025135Z
END:VEVENT
END:VCALENDAR
