BEGIN:VCALENDAR
VERSION:2.0
PRODID:-//ACG//Events//EN
CALSCALE:GREGORIAN
METHOD:PUBLISH
BEGIN:VTIMEZONE
TZID:America/New_York
BEGIN:STANDARD
DTSTART:19701025T060000
TZOFFSETTO:-0500
TZOFFSETFROM:-0400
RRULE:FREQ=YEARLY;BYMONTH=11;BYDAY=1SU
END:STANDARD
BEGIN:DAYLIGHT
DTSTART:19700426T070000
TZOFFSETTO:-0400
TZOFFSETFROM:-0500
RRULE:FREQ=YEARLY;BYMONTH=3;BYDAY=2SU
END:DAYLIGHT
END:VTIMEZONE
BEGIN:VEVENT
UID:03d36915-712d-486e-8952-bd7d1645e958
DTSTART;TZID=America/New_York:20180814T071500
DTEND;TZID=America/New_York:20180814T091500
STATUS:CONFIRMED
SUMMARY:Not Your Father's Auto Dealership  (Get Big or Get OUT!)
DESCRIPTION:
LOCATION:Glen Oaks\n30500 West 13 Mile Road\nFarmington Hills\\, MI 48334
URL:https://www.acg.org/detroit/events/not-your-fathers-auto-dealershi
 p-get-big-or-get-out
DTSTAMP:20260419T132323Z
END:VEVENT
END:VCALENDAR
