BEGIN:VCALENDAR
VERSION:2.0
PRODID:-//ACG//Events//EN
CALSCALE:GREGORIAN
METHOD:PUBLISH
BEGIN:VTIMEZONE
TZID:America/Chicago
BEGIN:STANDARD
DTSTART:19701025T070000
TZOFFSETTO:-0600
TZOFFSETFROM:-0500
RRULE:FREQ=YEARLY;BYMONTH=11;BYDAY=1SU
END:STANDARD
BEGIN:DAYLIGHT
DTSTART:19700426T080000
TZOFFSETTO:-0500
TZOFFSETFROM:-0600
RRULE:FREQ=YEARLY;BYMONTH=3;BYDAY=2SU
END:DAYLIGHT
END:VTIMEZONE
BEGIN:VEVENT
UID:3572d378-b5d0-454d-a2e5-1d00165c4d01
DTSTART;TZID=America/Chicago:20190308T073000
DTEND;TZID=America/Chicago:20190308T091500
STATUS:CONFIRMED
SUMMARY:ACG WI: Todd McLees\, Founder & Managing Partner\, Pendio Group
DESCRIPTION:
LOCATION:Italian Community Center\n631 East Chicago Street\nMilwaukee\
 \, WI 53202
URL:https://www.acg.org/wisconsin/events/acg-wi-todd-mclees-founder-ma
 naging-partner-pendio-group
DTSTAMP:20260420T150554Z
END:VEVENT
END:VCALENDAR
