BEGIN:VCALENDAR
VERSION:2.0
PRODID:-//ACG//Events//EN
CALSCALE:GREGORIAN
METHOD:PUBLISH
BEGIN:VTIMEZONE
TZID:America/New_York
BEGIN:STANDARD
DTSTART:19701025T060000
TZOFFSETTO:-0500
TZOFFSETFROM:-0400
RRULE:FREQ=YEARLY;BYMONTH=11;BYDAY=1SU
END:STANDARD
BEGIN:DAYLIGHT
DTSTART:19700426T070000
TZOFFSETTO:-0400
TZOFFSETFROM:-0500
RRULE:FREQ=YEARLY;BYMONTH=3;BYDAY=2SU
END:DAYLIGHT
END:VTIMEZONE
BEGIN:VEVENT
UID:73b61194-5bdf-4ec7-af08-3e2328630de0
DTSTART;TZID=America/New_York:20180717T000000
DTEND;TZID=America/New_York:20180717T000000
STATUS:CONFIRMED
SUMMARY:2018 Summer Mixer with ACG Orlando\, CFA Orlando & TMA Florida
DESCRIPTION:
LOCATION:Orange County Brewers\n131 North Orange Avenue\nOrlando\\, FL
  32801
URL:https://www.acg.org/orlando/events/2018-summer-mixer-acg-orlando-c
 fa-orlando-tma-florida
DTSTAMP:20260419T122133Z
END:VEVENT
END:VCALENDAR
