BEGIN:VCALENDAR
VERSION:2.0
PRODID:-//ACG//Events//EN
CALSCALE:GREGORIAN
METHOD:PUBLISH
BEGIN:VTIMEZONE
TZID:America/Chicago
BEGIN:STANDARD
DTSTART:19701025T070000
TZOFFSETTO:-0600
TZOFFSETFROM:-0500
RRULE:FREQ=YEARLY;BYMONTH=11;BYDAY=1SU
END:STANDARD
BEGIN:DAYLIGHT
DTSTART:19700426T080000
TZOFFSETTO:-0500
TZOFFSETFROM:-0600
RRULE:FREQ=YEARLY;BYMONTH=3;BYDAY=2SU
END:DAYLIGHT
END:VTIMEZONE
BEGIN:VEVENT
UID:2f547c52-6408-4106-a397-1022613f6787
DTSTART;TZID=America/Chicago:20180815T113000
DTEND;TZID=America/Chicago:20180815T130000
STATUS:CONFIRMED
SUMMARY:ACG in Austin on Wed. 8/15/18: Ross Sabolcik of Silicon Labs
DESCRIPTION:
LOCATION:Westwood Country Club (3808 West 35th Street\, Austin TX 7870
 3)\n3808 West 35th Street\nAustin\\, TX 78703
URL:https://www.acg.org/asa/events/acg-austin-wed-81518-ross-sabolcik-
 silicon-labs
DTSTAMP:20260420T065433Z
END:VEVENT
END:VCALENDAR
