BEGIN:VCALENDAR
VERSION:2.0
PRODID:-//ACG//Events//EN
CALSCALE:GREGORIAN
METHOD:PUBLISH
BEGIN:VTIMEZONE
TZID:America/Denver
BEGIN:STANDARD
DTSTART:19701025T080000
TZOFFSETTO:-0700
TZOFFSETFROM:-0600
RRULE:FREQ=YEARLY;BYMONTH=11;BYDAY=1SU
END:STANDARD
BEGIN:DAYLIGHT
DTSTART:19700426T090000
TZOFFSETTO:-0600
TZOFFSETFROM:-0700
RRULE:FREQ=YEARLY;BYMONTH=3;BYDAY=2SU
END:DAYLIGHT
END:VTIMEZONE
BEGIN:VEVENT
UID:2c7e9289-85d7-442c-8355-9d4eef95a023
DTSTART;TZID=America/Denver:20180911T071500
DTEND;TZID=America/Denver:20180911T090000
STATUS:CONFIRMED
SUMMARY:September 11 Breakfast Meeting with Crystal Maggelet
DESCRIPTION:
URL:https://www.acg.org/utah/events/september-11-breakfast-meeting-cry
 stal-maggelet
DTSTAMP:20260419T130543Z
END:VEVENT
END:VCALENDAR
