BEGIN:VCALENDAR
VERSION:2.0
PRODID:-//ACG//Events//EN
CALSCALE:GREGORIAN
METHOD:PUBLISH
BEGIN:VTIMEZONE
TZID:America/New_York
BEGIN:STANDARD
DTSTART:19701025T060000
TZOFFSETTO:-0500
TZOFFSETFROM:-0400
RRULE:FREQ=YEARLY;BYMONTH=11;BYDAY=1SU
END:STANDARD
BEGIN:DAYLIGHT
DTSTART:19700426T070000
TZOFFSETTO:-0400
TZOFFSETFROM:-0500
RRULE:FREQ=YEARLY;BYMONTH=3;BYDAY=2SU
END:DAYLIGHT
END:VTIMEZONE
BEGIN:VEVENT
UID:aa8c636d-04e4-47d6-9655-0b1141fa909b
DTSTART;TZID=America/New_York:20180920T160000
DTEND;TZID=America/New_York:20180920T200000
STATUS:CONFIRMED
SUMMARY:Technology & Business Services Conference
DESCRIPTION:
LOCATION:Infor\n641 6th Avenue\nNew York\\, NY 10011
URL:https://www.acg.org/nyc/events/technology-business-services-conference
DTSTAMP:20260423T184703Z
END:VEVENT
END:VCALENDAR
