BEGIN:VCALENDAR
VERSION:2.0
PRODID:-//ACG//Events//EN
CALSCALE:GREGORIAN
METHOD:PUBLISH
BEGIN:VTIMEZONE
TZID:America/New_York
BEGIN:STANDARD
DTSTART:19701025T060000
TZOFFSETTO:-0500
TZOFFSETFROM:-0400
RRULE:FREQ=YEARLY;BYMONTH=11;BYDAY=1SU
END:STANDARD
BEGIN:DAYLIGHT
DTSTART:19700426T070000
TZOFFSETTO:-0400
TZOFFSETFROM:-0500
RRULE:FREQ=YEARLY;BYMONTH=3;BYDAY=2SU
END:DAYLIGHT
END:VTIMEZONE
BEGIN:VEVENT
UID:ada8a0d6-4338-46af-be81-232db0cabd57
DTSTART;TZID=America/New_York:20190228T170000
DTEND;TZID=America/New_York:20190228T210000
STATUS:CONFIRMED
SUMMARY:11th Annual Healthcare Conference
DESCRIPTION:
LOCATION:Metropolitan Club\n1 East 60th Street\nNew York\\, NY 10022
URL:https://www.acg.org/nyc/events/11th-annual-healthcare-conference
DTSTAMP:20260425T185201Z
END:VEVENT
END:VCALENDAR
