BEGIN:VCALENDAR
VERSION:2.0
PRODID:-//ACG//Events//EN
CALSCALE:GREGORIAN
METHOD:PUBLISH
BEGIN:VTIMEZONE
TZID:America/New_York
BEGIN:STANDARD
DTSTART:19701025T060000
TZOFFSETTO:-0500
TZOFFSETFROM:-0400
RRULE:FREQ=YEARLY;BYMONTH=11;BYDAY=1SU
END:STANDARD
BEGIN:DAYLIGHT
DTSTART:19700426T070000
TZOFFSETTO:-0400
TZOFFSETFROM:-0500
RRULE:FREQ=YEARLY;BYMONTH=3;BYDAY=2SU
END:DAYLIGHT
END:VTIMEZONE
BEGIN:VEVENT
UID:ee3f226f-dc56-4a19-9026-76a1faf051b4
DTSTART;TZID=America/New_York:20190328T113000
DTEND;TZID=America/New_York:20190328T193000
STATUS:CONFIRMED
SUMMARY:25th Mid-Atlantic Growth Conference
DESCRIPTION:
LOCATION:Hyatt Regency Tysons Corner Center\n7901 Tysons One Place\nTy
 sons\\, VA 22102
URL:https://www.acg.org/national-capital/events/25th-mid-atlantic-grow
 th-conference
DTSTAMP:20260422T181915Z
END:VEVENT
END:VCALENDAR
