BEGIN:VCALENDAR
VERSION:2.0
PRODID:-//ACG//Events//EN
CALSCALE:GREGORIAN
METHOD:PUBLISH
BEGIN:VTIMEZONE
TZID:Europe/London
BEGIN:STANDARD
DTSTART:19700101T060000
TZOFFSETTO:+0100
TZOFFSETFROM:+0100
END:STANDARD
END:VTIMEZONE
BEGIN:VEVENT
UID:34309
DTSTART;TZID=Europe/London:20180927T180000
DTEND;TZID=Europe/London:20180927T210000
STATUS:CONFIRMED
SUMMARY:Gin Masterclass & Cocktail Making
DESCRIPTION:
LOCATION:The Punchbowl\n41 Farm Street\nMayfair
URL:https://www.acg.org/uk/events/gin-masterclass-cocktail-making
DTSTAMP:20260424T193453Z
END:VEVENT
END:VCALENDAR
