BEGIN:VCALENDAR
VERSION:2.0
PRODID:-//ACG//Events//EN
CALSCALE:GREGORIAN
METHOD:PUBLISH
BEGIN:VTIMEZONE
TZID:America/New_York
BEGIN:STANDARD
DTSTART:19701025T060000
TZOFFSETTO:-0500
TZOFFSETFROM:-0400
RRULE:FREQ=YEARLY;BYMONTH=11;BYDAY=1SU
END:STANDARD
BEGIN:DAYLIGHT
DTSTART:19700426T070000
TZOFFSETTO:-0400
TZOFFSETFROM:-0500
RRULE:FREQ=YEARLY;BYMONTH=3;BYDAY=2SU
END:DAYLIGHT
END:VTIMEZONE
BEGIN:VEVENT
UID:b61404fe-0951-41a9-a116-fa681b536c8f
DTSTART;TZID=America/New_York:20190604T180000
DTEND;TZID=America/New_York:20190604T200000
STATUS:CONFIRMED
SUMMARY:Member Only Private Equity Wine Tasting
DESCRIPTION:
LOCATION:Merion Golf Club\n450 Ardmore Avenue\nArdmore\\, PA 19003
URL:https://www.acg.org/philadelphia/events/member-only-private-equity
 -wine-tasting
DTSTAMP:20260422T112010Z
END:VEVENT
END:VCALENDAR
