BEGIN:VCALENDAR
VERSION:2.0
PRODID:-//ACG//Events//EN
CALSCALE:GREGORIAN
METHOD:PUBLISH
BEGIN:VTIMEZONE
TZID:America/New_York
BEGIN:STANDARD
DTSTART:19701025T060000
TZOFFSETTO:-0500
TZOFFSETFROM:-0400
RRULE:FREQ=YEARLY;BYMONTH=11;BYDAY=1SU
END:STANDARD
BEGIN:DAYLIGHT
DTSTART:19700426T070000
TZOFFSETTO:-0400
TZOFFSETFROM:-0500
RRULE:FREQ=YEARLY;BYMONTH=3;BYDAY=2SU
END:DAYLIGHT
END:VTIMEZONE
BEGIN:VEVENT
UID:ebdc301a-b114-4565-a2a5-184753cf85dd
DTSTART;TZID=America/New_York:20181003T113000
DTEND;TZID=America/New_York:20181003T130000
STATUS:CONFIRMED
SUMMARY:ACG Cincinnati - The Fido Factor:  Get a Leg Up at Work
DESCRIPTION:
LOCATION:Greater Cincinnati Chamber of Commerce Conference Center\n3 E
 ast 4th Street\nCincinnati\\, OH 45202
URL:https://www.acg.org/cincinnati/events/acg-cincinnati-fido-factor-g
 et-leg-work
DTSTAMP:20260425T005139Z
END:VEVENT
END:VCALENDAR
