BEGIN:VCALENDAR
VERSION:2.0
PRODID:-//ACG//Events//EN
CALSCALE:GREGORIAN
METHOD:PUBLISH
BEGIN:VTIMEZONE
TZID:America/New_York
BEGIN:STANDARD
DTSTART:19701025T060000
TZOFFSETTO:-0500
TZOFFSETFROM:-0400
RRULE:FREQ=YEARLY;BYMONTH=11;BYDAY=1SU
END:STANDARD
BEGIN:DAYLIGHT
DTSTART:19700426T070000
TZOFFSETTO:-0400
TZOFFSETFROM:-0500
RRULE:FREQ=YEARLY;BYMONTH=3;BYDAY=2SU
END:DAYLIGHT
END:VTIMEZONE
BEGIN:VEVENT
UID:e08ffe9c-8ec9-4637-bf44-5846a34f03ae
DTSTART;TZID=America/New_York:20181204T173000
DTEND;TZID=America/New_York:20181204T193000
STATUS:CONFIRMED
SUMMARY:4th Annual Jingle & Mingle Holiday Party with ACG Orlando\, CF
 A Orlando\, FEI-Central Florida & TMA Florida
DESCRIPTION:
LOCATION:Ace Cafe Orlando\n100 West Livingston Street\nOrlando\\, FL 32801
URL:https://www.acg.org/orlando/events/4th-annual-jingle-mingle-holida
 y-party-acg-orlando-cfa-orlando-fei-central-florida
DTSTAMP:20260420T092853Z
END:VEVENT
END:VCALENDAR
