BEGIN:VCALENDAR
VERSION:2.0
PRODID:-//ACG//Events//EN
CALSCALE:GREGORIAN
METHOD:PUBLISH
BEGIN:VTIMEZONE
TZID:America/Detroit
BEGIN:STANDARD
DTSTART:19700101T060000
TZOFFSETTO:-0500
TZOFFSETFROM:-0500
END:STANDARD
END:VTIMEZONE
BEGIN:VEVENT
UID:35745
DTSTART;TZID=America/Detroit:20181129T073000
DTEND;TZID=America/Detroit:20181129T090000
STATUS:CONFIRMED
SUMMARY:ACG Nov 29 Adam & Eve\, The PHE Story
DESCRIPTION:
LOCATION:Sheraton Imperial Hotel \nSheraton Imperial Hotel\n4700 Emper
 or Blvd\nDurham\\, NC 27703
URL:https://www.acg.org/raleighdurham/events/acg-nov-29-adam-eve-phe-story
DTSTAMP:20260422T173106Z
END:VEVENT
END:VCALENDAR
