BEGIN:VCALENDAR
VERSION:2.0
PRODID:-//ACG//Events//EN
CALSCALE:GREGORIAN
METHOD:PUBLISH
BEGIN:VTIMEZONE
TZID:America/New_York
BEGIN:STANDARD
DTSTART:19701025T060000
TZOFFSETTO:-0500
TZOFFSETFROM:-0400
RRULE:FREQ=YEARLY;BYMONTH=11;BYDAY=1SU
END:STANDARD
BEGIN:DAYLIGHT
DTSTART:19700426T070000
TZOFFSETTO:-0400
TZOFFSETFROM:-0500
RRULE:FREQ=YEARLY;BYMONTH=3;BYDAY=2SU
END:DAYLIGHT
END:VTIMEZONE
BEGIN:VEVENT
UID:d8f71e05-c70f-4c03-bc50-3d73273ee5d1
DTSTART;TZID=America/New_York:20181114T113000
DTEND;TZID=America/New_York:20181114T130000
STATUS:CONFIRMED
SUMMARY:ACG CIN & EACC Women:  Cultural Intelligence for International
  Business Success
DESCRIPTION:
LOCATION:Greater Cincinnati Chamber of Commerce Conference Center\n3 E
 ast 4th Street\nCincinnati\\, OH 45202
URL:https://www.acg.org/cincinnati/events/acg-cin-eacc-women-cultural-
 intelligence-international-business-success
DTSTAMP:20260424T211404Z
END:VEVENT
END:VCALENDAR
