BEGIN:VCALENDAR
VERSION:2.0
PRODID:-//ACG//Events//EN
CALSCALE:GREGORIAN
METHOD:PUBLISH
BEGIN:VTIMEZONE
TZID:America/Phoenix
BEGIN:STANDARD
DTSTART:19700101T060000
TZOFFSETTO:-0700
TZOFFSETFROM:-0700
END:STANDARD
END:VTIMEZONE
BEGIN:VEVENT
UID:340f81a0-b060-4e77-9f71-9d1788325d11
DTSTART;TZID=America/Phoenix:20181128T113000
DTEND;TZID=America/Phoenix:20181128T133000
STATUS:CONFIRMED
SUMMARY:ACG Arizona Women in Business and Leadership CEO Panel "Lunch 
 and Learn"
DESCRIPTION:
URL:https://www.acg.org/arizona/events/acg-arizona-women-business-and-
 leadership-ceo-panel-lunch-and-learn
DTSTAMP:20260420T181451Z
END:VEVENT
END:VCALENDAR
