BEGIN:VCALENDAR
VERSION:2.0
PRODID:-//ACG//Events//EN
CALSCALE:GREGORIAN
METHOD:PUBLISH
BEGIN:VTIMEZONE
TZID:America/Chicago
BEGIN:STANDARD
DTSTART:19701025T070000
TZOFFSETTO:-0600
TZOFFSETFROM:-0500
RRULE:FREQ=YEARLY;BYMONTH=11;BYDAY=1SU
END:STANDARD
BEGIN:DAYLIGHT
DTSTART:19700426T080000
TZOFFSETTO:-0500
TZOFFSETFROM:-0600
RRULE:FREQ=YEARLY;BYMONTH=3;BYDAY=2SU
END:DAYLIGHT
END:VTIMEZONE
BEGIN:VEVENT
UID:c1faacf1-b64a-48ef-a1ae-35bc97337437
DTSTART;TZID=America/Chicago:20190514T113000
DTEND;TZID=America/Chicago:20190514T131500
STATUS:CONFIRMED
SUMMARY:ACG Houston May 14 Luncheon
DESCRIPTION:
LOCATION:River Oaks Country Club\n1600 River Oaks Boulevard\nHouston\\
 , TX 77019
URL:https://www.acg.org/houston/events/acg-houston-may-14-luncheon
DTSTAMP:20260422T073513Z
END:VEVENT
END:VCALENDAR
